BEGIN:VCALENDAR
VERSION:2.0
PRODID:-//Journaldesvoisins.com - ECPv6.15.18//NONSGML v1.0//EN
CALSCALE:GREGORIAN
METHOD:PUBLISH
X-ORIGINAL-URL:https://archive.jdv.symbiodev.xyz
X-WR-CALDESC:Événements pour Journaldesvoisins.com
REFRESH-INTERVAL;VALUE=DURATION:PT1H
X-Robots-Tag:noindex
X-PUBLISHED-TTL:PT1H
BEGIN:VTIMEZONE
TZID:America/Toronto
BEGIN:DAYLIGHT
TZOFFSETFROM:-0500
TZOFFSETTO:-0400
TZNAME:EDT
DTSTART:20200308T070000
END:DAYLIGHT
BEGIN:STANDARD
TZOFFSETFROM:-0400
TZOFFSETTO:-0500
TZNAME:EST
DTSTART:20201101T060000
END:STANDARD
BEGIN:DAYLIGHT
TZOFFSETFROM:-0500
TZOFFSETTO:-0400
TZNAME:EDT
DTSTART:20210314T070000
END:DAYLIGHT
BEGIN:STANDARD
TZOFFSETFROM:-0400
TZOFFSETTO:-0500
TZNAME:EST
DTSTART:20211107T060000
END:STANDARD
BEGIN:DAYLIGHT
TZOFFSETFROM:-0500
TZOFFSETTO:-0400
TZNAME:EDT
DTSTART:20220313T070000
END:DAYLIGHT
BEGIN:STANDARD
TZOFFSETFROM:-0400
TZOFFSETTO:-0500
TZNAME:EST
DTSTART:20221106T060000
END:STANDARD
BEGIN:DAYLIGHT
TZOFFSETFROM:-0500
TZOFFSETTO:-0400
TZNAME:EDT
DTSTART:20230312T070000
END:DAYLIGHT
BEGIN:STANDARD
TZOFFSETFROM:-0400
TZOFFSETTO:-0500
TZNAME:EST
DTSTART:20231105T060000
END:STANDARD
BEGIN:DAYLIGHT
TZOFFSETFROM:-0500
TZOFFSETTO:-0400
TZNAME:EDT
DTSTART:20240310T070000
END:DAYLIGHT
BEGIN:STANDARD
TZOFFSETFROM:-0400
TZOFFSETTO:-0500
TZNAME:EST
DTSTART:20241103T060000
END:STANDARD
BEGIN:DAYLIGHT
TZOFFSETFROM:-0500
TZOFFSETTO:-0400
TZNAME:EDT
DTSTART:20250309T070000
END:DAYLIGHT
BEGIN:STANDARD
TZOFFSETFROM:-0400
TZOFFSETTO:-0500
TZNAME:EST
DTSTART:20251102T060000
END:STANDARD
BEGIN:DAYLIGHT
TZOFFSETFROM:-0500
TZOFFSETTO:-0400
TZNAME:EDT
DTSTART:20260308T070000
END:DAYLIGHT
BEGIN:STANDARD
TZOFFSETFROM:-0400
TZOFFSETTO:-0500
TZNAME:EST
DTSTART:20261101T060000
END:STANDARD
END:VTIMEZONE
BEGIN:VEVENT
DTSTART;TZID=America/Toronto:20210721T163000
DTEND;TZID=America/Toronto:20251231T235900
DTSTAMP:20260419T122454
CREATED:20230802T185612Z
LAST-MODIFIED:20231009T221636Z
UID:113340-1626885000-1767225540@archive.jdv.symbiodev.xyz
SUMMARY:Découvrez le parcours auditif permanent Cuisine ton quartier\, situé au parc Marcelin-Wilson
DESCRIPTION:Partez à la découverte des parcours et des enjeux que vivent les personnes réfugiées et immigrantes qui composent le tissu social de votre quartier. \n\n\nDescription\n\nVivez l’expérience depuis chez vous\, ou en vous rendant sur place au parc Marcelin-Wilson\, pour une visite guidée auditive à votre rythme : Parcours-balado – Cuisine ton quartier. \nVous pourrez écouter de 12 à 16 épisodes pour une durée qui varie entre 6 à 35 minutes chacun. Des messages de paix\, de joie\, de sensibilisation vous sont livrés ; des histoires de vie\, des parcours plus ou moins difficiles\, des vécus confiés criant d’authenticité qui nous font grandir de courage et d’intelligence humaine. \nOutre le parc Marcelin-Wilson\, vous pouvez vous rendre sur les lieux mêmes où ont été enregistrées les entrevues\, soit dans six autres parcs montréalais : \n\nHenri-Bourassa\, de Montréal-Nord;\nPirandello\, de Saint-Léonard;\nJarry\, de Villeray–Saint-Michel–Parc-Extension;\nGeorge Springate\, de Pierrefonds–Roxboro;\nMartin Luther King\, de Côte-des-Neiges–Notre-Dame-de-Grâce;\nPainter\, de Saint-Laurent.\n\nEn tout ce sont 82 témoignages en ligne et en parcours sonores installés de manière permanente dans ces 7 parcs montréalais. \nPour les écouter\, il suffit de prendre en photo le code QR affiché sur la station. Six stations sont situées au parc Marcelin-Wilson. \nUne réalisation de ATSA\, Quand l’Art passe à l’Action\, rendue possible grâce à l’appui de la Ville de Montréal (Bureau d’intégration des nouveaux arrivants à Montréal)\, du ministère de l’Immigration\, de la Francisation et de l’Intégration (MIFI) et du Conseil des Arts de Montréal.
URL:https://archive.jdv.symbiodev.xyz/evenement/decouvrez-le-parcours-auditif-permanent-cuisine-ton-quartier-situe-au-parc-marcelin-wilson/
LOCATION:Parc Marcelin-Wilson\, 11301 Bd de l'Acadie\, Montréal\, Quebec\, H3M 2T1\, Canada
ORGANIZER;CN="ATSA":MAILTO:info@atsa.qc.ca
END:VEVENT
BEGIN:VEVENT
DTSTART;VALUE=DATE:20240430
DTEND;VALUE=DATE:20240629
DTSTAMP:20260419T122454
CREATED:20240126T161054Z
LAST-MODIFIED:20240126T161054Z
UID:119360-1714435200-1719619199@archive.jdv.symbiodev.xyz
SUMMARY:Retour imaginé\, une inspiration d’œuvres de Riopelle
DESCRIPTION:
URL:https://archive.jdv.symbiodev.xyz/evenement/retour-imagine-une-inspiration-doeuvres-de-riopelle/
LOCATION:Café de Da\, 545 Rue Fleury E
END:VEVENT
BEGIN:VEVENT
DTSTART;TZID=America/Toronto:20240605T100000
DTEND;TZID=America/Toronto:20240605T120000
DTSTAMP:20260419T122454
CREATED:20231229T173017Z
LAST-MODIFIED:20231229T173017Z
UID:118726-1717581600-1717588800@archive.jdv.symbiodev.xyz
SUMMARY:Écrivain public
DESCRIPTION:Service d’aide à la rédaction de textes en français\, tant administratifs que personnels. Les rencontres ont lieu à la bibliothèque d’Ahuntsic. Un rendez-vous doit être fixé avec l’écrivain public au préalable.\nMercredis et vendredis\, 10 h à 12 h\nDu 10 janvier au 21 juin
URL:https://archive.jdv.symbiodev.xyz/evenement/ecrivain-public-43/
LOCATION:Bibliothèque d’Ahuntsic
END:VEVENT
BEGIN:VEVENT
DTSTART;TZID=America/Toronto:20240605T140000
DTEND;TZID=America/Toronto:20240605T153000
DTSTAMP:20260419T122454
CREATED:20240129T185530Z
LAST-MODIFIED:20240129T185530Z
UID:119493-1717596000-1717601400@archive.jdv.symbiodev.xyz
SUMMARY:S.O.S. informatique
DESCRIPTION:À compter du 14 février\, le service de dépannage informatique personnalisé reprendra à la bibliothèque d’Ahuntsic.\nUn mercredi sur deux\, du 14 février au 19 juin\, 14 h à 15 h 30.\nSans inscription.
URL:https://archive.jdv.symbiodev.xyz/evenement/s-o-s-informatique-13/
LOCATION:Bibliothèque d’Ahuntsic
END:VEVENT
BEGIN:VEVENT
DTSTART;TZID=America/Toronto:20240605T193000
DTEND;TZID=America/Toronto:20240605T210000
DTSTAMP:20260419T122454
CREATED:20231005T151907Z
LAST-MODIFIED:20231005T151907Z
UID:115685-1717615800-1717621200@archive.jdv.symbiodev.xyz
SUMMARY:Les jardins des alentours (Claude Lecavalier)
DESCRIPTION:La Société d’Horticulture et d’Écologie du Nord de Montréal vous invite à ses conférences pour l’année 2023-2024. Elle entame cette année sa 49ème saison. \nCes conférences annuelles\, au nombre de 7\, ont lieu le premier mercredi du mois\, en octobre\, novembre\, décembre\, mars\, avril\, mai et juin. \nLa Société d’horticulture et d’écologie du nord de Montréal (SHENM) existe depuis 1975; elle est la première société au Québec à prôner l’écologie et dans son nom et dans ses activités. Elle a pour mission de diffuser de l’information en botanique et horticulture\, d’améliorer la vie en milieu urbain\, de promouvoir les espaces verts et de travailler à la protection de l’environnement. \nLa société a organisé à ce jour plus de 400 conférences permettant la transmission de la connaissance à de très nombreuses personnes. Impliquée dès le départ dans la sauvegarde\, la protection et la mise en valeur du Bois-de-Saraguay\, elle participe aux réunions consultatives du Comité de suivi permanent pour la conservation et la mise en valeur du parc-nature du Bois-de-Saraguay.
URL:https://archive.jdv.symbiodev.xyz/evenement/les-jardins-des-alentours-claude-lecavalier/
LOCATION:La Société d’Horticulture et d’Écologie du Nord de Montréal\, sous-sol de l'église Saints-Martyrs Canadiens\, 10 007 rue Parthenais\, Montréal\, Québec\, Canada
CATEGORIES:Soirée
END:VEVENT
BEGIN:VEVENT
DTSTART;VALUE=DATE:20240606
DTEND;VALUE=DATE:20240617
DTSTAMP:20260419T122454
CREATED:20240112T153044Z
LAST-MODIFIED:20240112T153044Z
UID:118931-1717632000-1718582399@archive.jdv.symbiodev.xyz
SUMMARY:NÉONS MORTEFONTAINE 06 juin → 16 juin 2024
DESCRIPTION:Néons est une installation lumineuses constituée d’un agencement de tubes fluorescents formant un mur contrôlé par un système dynamique. Jimmy Lakatos a créé ce dispositif afin d’explorer la qualité de lumière propre au phénomène «haut voltage». Les tubes sont organisés selon une gradation tempérée de blancs et chacun d’eux produit une lumière unique façonnée par le temps. Anne-Marie Boisvert réalisera des interventions performatives au sein de l’installation. \nConsultez le site Web pour les détails et tarifs : https://www.eisode.art/n%C3%A9ons
URL:https://archive.jdv.symbiodev.xyz/evenement/neons-mortefontaine-06-juin-%e2%86%92-16-juin-2024/
END:VEVENT
BEGIN:VEVENT
DTSTART;TZID=America/Toronto:20240607T100000
DTEND;TZID=America/Toronto:20240607T120000
DTSTAMP:20260419T122454
CREATED:20231229T173109Z
LAST-MODIFIED:20231229T173109Z
UID:118728-1717754400-1717761600@archive.jdv.symbiodev.xyz
SUMMARY:Écrivain public
DESCRIPTION:Service d’aide à la rédaction de textes en français\, tant administratifs que personnels. Les rencontres ont lieu à la bibliothèque d’Ahuntsic. Un rendez-vous doit être fixé avec l’écrivain public au préalable.\nMercredis et vendredis\, 10 h à 12 h\nDu 10 janvier au 21 juin
URL:https://archive.jdv.symbiodev.xyz/evenement/ecrivain-public-44/
LOCATION:Bibliothèque d’Ahuntsic
END:VEVENT
BEGIN:VEVENT
DTSTART;TZID=America/Toronto:20240612T100000
DTEND;TZID=America/Toronto:20240612T120000
DTSTAMP:20260419T122454
CREATED:20231229T173207Z
LAST-MODIFIED:20231229T173207Z
UID:118731-1718186400-1718193600@archive.jdv.symbiodev.xyz
SUMMARY:Écrivain public
DESCRIPTION:Service d’aide à la rédaction de textes en français\, tant administratifs que personnels. Les rencontres ont lieu à la bibliothèque d’Ahuntsic. Un rendez-vous doit être fixé avec l’écrivain public au préalable.\nMercredis et vendredis\, 10 h à 12 h\nDu 10 janvier au 21 juin
URL:https://archive.jdv.symbiodev.xyz/evenement/ecrivain-public-45/
LOCATION:Bibliothèque d’Ahuntsic
END:VEVENT
BEGIN:VEVENT
DTSTART;TZID=America/Toronto:20240614T100000
DTEND;TZID=America/Toronto:20240614T120000
DTSTAMP:20260419T122454
CREATED:20231229T173259Z
LAST-MODIFIED:20231229T173259Z
UID:118733-1718359200-1718366400@archive.jdv.symbiodev.xyz
SUMMARY:Écrivain public
DESCRIPTION:Service d’aide à la rédaction de textes en français\, tant administratifs que personnels. Les rencontres ont lieu à la bibliothèque d’Ahuntsic. Un rendez-vous doit être fixé avec l’écrivain public au préalable.\nMercredis et vendredis\, 10 h à 12 h\nDu 10 janvier au 21 juin
URL:https://archive.jdv.symbiodev.xyz/evenement/ecrivain-public-46/
LOCATION:Bibliothèque d’Ahuntsic
END:VEVENT
BEGIN:VEVENT
DTSTART;TZID=America/Toronto:20240619T100000
DTEND;TZID=America/Toronto:20240619T120000
DTSTAMP:20260419T122454
CREATED:20231229T173358Z
LAST-MODIFIED:20231229T173358Z
UID:118735-1718791200-1718798400@archive.jdv.symbiodev.xyz
SUMMARY:Écrivain public
DESCRIPTION:Service d’aide à la rédaction de textes en français\, tant administratifs que personnels. Les rencontres ont lieu à la bibliothèque d’Ahuntsic. Un rendez-vous doit être fixé avec l’écrivain public au préalable.\nMercredis et vendredis\, 10 h à 12 h\nDu 10 janvier au 21 juin
URL:https://archive.jdv.symbiodev.xyz/evenement/ecrivain-public-47/
LOCATION:Bibliothèque d’Ahuntsic
END:VEVENT
BEGIN:VEVENT
DTSTART;TZID=America/Toronto:20240619T140000
DTEND;TZID=America/Toronto:20240619T153000
DTSTAMP:20260419T122454
CREATED:20240129T185643Z
LAST-MODIFIED:20240129T185643Z
UID:119495-1718805600-1718811000@archive.jdv.symbiodev.xyz
SUMMARY:S.O.S. informatique
DESCRIPTION:À compter du 14 février\, le service de dépannage informatique personnalisé reprendra à la bibliothèque d’Ahuntsic.\nUn mercredi sur deux\, du 14 février au 19 juin\, 14 h à 15 h 30.\nSans inscription.
URL:https://archive.jdv.symbiodev.xyz/evenement/s-o-s-informatique-14/
LOCATION:Bibliothèque d’Ahuntsic
END:VEVENT
BEGIN:VEVENT
DTSTART;TZID=America/Toronto:20240621T100000
DTEND;TZID=America/Toronto:20240621T120000
DTSTAMP:20260419T122454
CREATED:20231229T173459Z
LAST-MODIFIED:20231229T173459Z
UID:118738-1718964000-1718971200@archive.jdv.symbiodev.xyz
SUMMARY:Écrivain public
DESCRIPTION:Service d’aide à la rédaction de textes en français\, tant administratifs que personnels. Les rencontres ont lieu à la bibliothèque d’Ahuntsic. Un rendez-vous doit être fixé avec l’écrivain public au préalable.\nMercredis et vendredis\, 10 h à 12 h\nDu 10 janvier au 21 juin
URL:https://archive.jdv.symbiodev.xyz/evenement/ecrivain-public-48/
LOCATION:Bibliothèque d’Ahuntsic
END:VEVENT
END:VCALENDAR