BEGIN:VCALENDAR
VERSION:2.0
PRODID:-//Journaldesvoisins.com - ECPv6.15.18//NONSGML v1.0//EN
CALSCALE:GREGORIAN
METHOD:PUBLISH
X-ORIGINAL-URL:https://archive.jdv.symbiodev.xyz
X-WR-CALDESC:Événements pour Journaldesvoisins.com
REFRESH-INTERVAL;VALUE=DURATION:PT1H
X-Robots-Tag:noindex
X-PUBLISHED-TTL:PT1H
BEGIN:VTIMEZONE
TZID:America/Toronto
BEGIN:DAYLIGHT
TZOFFSETFROM:-0500
TZOFFSETTO:-0400
TZNAME:EDT
DTSTART:20200308T070000
END:DAYLIGHT
BEGIN:STANDARD
TZOFFSETFROM:-0400
TZOFFSETTO:-0500
TZNAME:EST
DTSTART:20201101T060000
END:STANDARD
BEGIN:DAYLIGHT
TZOFFSETFROM:-0500
TZOFFSETTO:-0400
TZNAME:EDT
DTSTART:20210314T070000
END:DAYLIGHT
BEGIN:STANDARD
TZOFFSETFROM:-0400
TZOFFSETTO:-0500
TZNAME:EST
DTSTART:20211107T060000
END:STANDARD
BEGIN:DAYLIGHT
TZOFFSETFROM:-0500
TZOFFSETTO:-0400
TZNAME:EDT
DTSTART:20220313T070000
END:DAYLIGHT
BEGIN:STANDARD
TZOFFSETFROM:-0400
TZOFFSETTO:-0500
TZNAME:EST
DTSTART:20221106T060000
END:STANDARD
BEGIN:DAYLIGHT
TZOFFSETFROM:-0500
TZOFFSETTO:-0400
TZNAME:EDT
DTSTART:20230312T070000
END:DAYLIGHT
BEGIN:STANDARD
TZOFFSETFROM:-0400
TZOFFSETTO:-0500
TZNAME:EST
DTSTART:20231105T060000
END:STANDARD
BEGIN:DAYLIGHT
TZOFFSETFROM:-0500
TZOFFSETTO:-0400
TZNAME:EDT
DTSTART:20240310T070000
END:DAYLIGHT
BEGIN:STANDARD
TZOFFSETFROM:-0400
TZOFFSETTO:-0500
TZNAME:EST
DTSTART:20241103T060000
END:STANDARD
BEGIN:DAYLIGHT
TZOFFSETFROM:-0500
TZOFFSETTO:-0400
TZNAME:EDT
DTSTART:20250309T070000
END:DAYLIGHT
BEGIN:STANDARD
TZOFFSETFROM:-0400
TZOFFSETTO:-0500
TZNAME:EST
DTSTART:20251102T060000
END:STANDARD
BEGIN:DAYLIGHT
TZOFFSETFROM:-0500
TZOFFSETTO:-0400
TZNAME:EDT
DTSTART:20260308T070000
END:DAYLIGHT
BEGIN:STANDARD
TZOFFSETFROM:-0400
TZOFFSETTO:-0500
TZNAME:EST
DTSTART:20261101T060000
END:STANDARD
END:VTIMEZONE
BEGIN:VEVENT
DTSTART;TZID=America/Toronto:20210721T163000
DTEND;TZID=America/Toronto:20251231T235900
DTSTAMP:20260419T110220
CREATED:20230802T185612Z
LAST-MODIFIED:20231009T221636Z
UID:113340-1626885000-1767225540@archive.jdv.symbiodev.xyz
SUMMARY:Découvrez le parcours auditif permanent Cuisine ton quartier\, situé au parc Marcelin-Wilson
DESCRIPTION:Partez à la découverte des parcours et des enjeux que vivent les personnes réfugiées et immigrantes qui composent le tissu social de votre quartier. \n\n\nDescription\n\nVivez l’expérience depuis chez vous\, ou en vous rendant sur place au parc Marcelin-Wilson\, pour une visite guidée auditive à votre rythme : Parcours-balado – Cuisine ton quartier. \nVous pourrez écouter de 12 à 16 épisodes pour une durée qui varie entre 6 à 35 minutes chacun. Des messages de paix\, de joie\, de sensibilisation vous sont livrés ; des histoires de vie\, des parcours plus ou moins difficiles\, des vécus confiés criant d’authenticité qui nous font grandir de courage et d’intelligence humaine. \nOutre le parc Marcelin-Wilson\, vous pouvez vous rendre sur les lieux mêmes où ont été enregistrées les entrevues\, soit dans six autres parcs montréalais : \n\nHenri-Bourassa\, de Montréal-Nord;\nPirandello\, de Saint-Léonard;\nJarry\, de Villeray–Saint-Michel–Parc-Extension;\nGeorge Springate\, de Pierrefonds–Roxboro;\nMartin Luther King\, de Côte-des-Neiges–Notre-Dame-de-Grâce;\nPainter\, de Saint-Laurent.\n\nEn tout ce sont 82 témoignages en ligne et en parcours sonores installés de manière permanente dans ces 7 parcs montréalais. \nPour les écouter\, il suffit de prendre en photo le code QR affiché sur la station. Six stations sont situées au parc Marcelin-Wilson. \nUne réalisation de ATSA\, Quand l’Art passe à l’Action\, rendue possible grâce à l’appui de la Ville de Montréal (Bureau d’intégration des nouveaux arrivants à Montréal)\, du ministère de l’Immigration\, de la Francisation et de l’Intégration (MIFI) et du Conseil des Arts de Montréal.
URL:https://archive.jdv.symbiodev.xyz/evenement/decouvrez-le-parcours-auditif-permanent-cuisine-ton-quartier-situe-au-parc-marcelin-wilson/
LOCATION:Parc Marcelin-Wilson\, 11301 Bd de l'Acadie\, Montréal\, Quebec\, H3M 2T1\, Canada
ORGANIZER;CN="ATSA":MAILTO:info@atsa.qc.ca
END:VEVENT
BEGIN:VEVENT
DTSTART;VALUE=DATE:20240429
DTEND;VALUE=DATE:20240531
DTSTAMP:20260419T110220
CREATED:20240112T152900Z
LAST-MODIFIED:20240112T152900Z
UID:118929-1714348800-1717113599@archive.jdv.symbiodev.xyz
SUMMARY:[RE]CAPTURE ALICE JARRY - 29 avril → 30 mai 2024
DESCRIPTION:S’appuyant sur le concept de filtration\, [re]capture est une installation qui explore la matérialisation des flux de pollution atmosphérique à Montréal. Des objets nomades disposés dans l’espace urbain captent les niveaux de particules fines\, de dioxyde de carbone et de composés volatiles organiques ainsi que des images de leur environnement immédiat. Ces informations sont organisées dans une base de données et retransmises dans l’espace d’exposition pour informer les comportements de flux de vent et de lumière qui circulent dans un système de filtration constitué de biomatériaux et de plantes reconnus pour leur propriété filtrantes. \nConsultez le site Web pour les détails et tarifs : https://www.eisode.art/recapture
URL:https://archive.jdv.symbiodev.xyz/evenement/recapture-alice-jarry-29-avril-%e2%86%92-30-mai-2024/
END:VEVENT
BEGIN:VEVENT
DTSTART;VALUE=DATE:20240430
DTEND;VALUE=DATE:20240629
DTSTAMP:20260419T110220
CREATED:20240126T161054Z
LAST-MODIFIED:20240126T161054Z
UID:119360-1714435200-1719619199@archive.jdv.symbiodev.xyz
SUMMARY:Retour imaginé\, une inspiration d’œuvres de Riopelle
DESCRIPTION:
URL:https://archive.jdv.symbiodev.xyz/evenement/retour-imagine-une-inspiration-doeuvres-de-riopelle/
LOCATION:Café de Da\, 545 Rue Fleury E
END:VEVENT
BEGIN:VEVENT
DTSTART;TZID=America/Toronto:20240501T100000
DTEND;TZID=America/Toronto:20240501T120000
DTSTAMP:20260419T110220
CREATED:20231229T171638Z
LAST-MODIFIED:20231229T171638Z
UID:118706-1714557600-1714564800@archive.jdv.symbiodev.xyz
SUMMARY:Écrivain public
DESCRIPTION:Service d’aide à la rédaction de textes en français\, tant administratifs que personnels. Les rencontres ont lieu à la bibliothèque d’Ahuntsic. Un rendez-vous doit être fixé avec l’écrivain public au préalable.\nMercredis et vendredis\, 10 h à 12 h\nDu 10 janvier au 21 juin
URL:https://archive.jdv.symbiodev.xyz/evenement/ecrivain-public-33/
LOCATION:Bibliothèque d’Ahuntsic
END:VEVENT
BEGIN:VEVENT
DTSTART;TZID=America/Toronto:20240501T190000
DTEND;TZID=America/Toronto:20240501T210000
DTSTAMP:20260419T110220
CREATED:20231109T190810Z
LAST-MODIFIED:20231109T192908Z
UID:116919-1714590000-1714597200@archive.jdv.symbiodev.xyz
SUMMARY:CINÉ-CLUB Ahuntsic – L'île de Sukwan
DESCRIPTION:*Un film de Periahan Incegöz et Jonathan Tremblay. \nBillets à 7$ ou 10$ (avec une bière).
URL:https://archive.jdv.symbiodev.xyz/evenement/cine-club-ahuntsic-lile-de-sukwan/
LOCATION:L’Espace le vrai monde\, 9155\, rue Saint-Hubert\, Montréal\, Québec\, H2M 1Y8\, Canada
CATEGORIES:Soirée
END:VEVENT
BEGIN:VEVENT
DTSTART;TZID=America/Toronto:20240501T193000
DTEND;TZID=America/Toronto:20240501T210000
DTSTAMP:20260419T110220
CREATED:20231005T151511Z
LAST-MODIFIED:20231005T151511Z
UID:115683-1714591800-1714597200@archive.jdv.symbiodev.xyz
SUMMARY:Conférence sur les oiseaux (Jean Poitras)
DESCRIPTION:La Société d’Horticulture et d’Écologie du Nord de Montréal vous invite à ses conférences pour l’année 2023-2024. Elle entame cette année sa 49ème saison. \nCes conférences annuelles\, au nombre de 7\, ont lieu le premier mercredi du mois\, en octobre\, novembre\, décembre\, mars\, avril\, mai et juin. \nLa Société d’horticulture et d’écologie du nord de Montréal (SHENM) existe depuis 1975; elle est la première société au Québec à prôner l’écologie et dans son nom et dans ses activités. Elle a pour mission de diffuser de l’information en botanique et horticulture\, d’améliorer la vie en milieu urbain\, de promouvoir les espaces verts et de travailler à la protection de l’environnement. \nLa société a organisé à ce jour plus de 400 conférences permettant la transmission de la connaissance à de très nombreuses personnes. Impliquée dès le départ dans la sauvegarde\, la protection et la mise en valeur du Bois-de-Saraguay\, elle participe aux réunions consultatives du Comité de suivi permanent pour la conservation et la mise en valeur du parc-nature du Bois-de-Saraguay.
URL:https://archive.jdv.symbiodev.xyz/evenement/conference-sur-les-oiseaux-jean-poitras/
LOCATION:La Société d’Horticulture et d’Écologie du Nord de Montréal\, sous-sol de l'église Saints-Martyrs Canadiens\, 10 007 rue Parthenais\, Montréal\, Québec\, Canada
CATEGORIES:Soirée
END:VEVENT
BEGIN:VEVENT
DTSTART;TZID=America/Toronto:20240503T100000
DTEND;TZID=America/Toronto:20240503T120000
DTSTAMP:20260419T110220
CREATED:20231229T171732Z
LAST-MODIFIED:20231229T171732Z
UID:118708-1714730400-1714737600@archive.jdv.symbiodev.xyz
SUMMARY:Écrivain public
DESCRIPTION:Service d’aide à la rédaction de textes en français\, tant administratifs que personnels. Les rencontres ont lieu à la bibliothèque d’Ahuntsic. Un rendez-vous doit être fixé avec l’écrivain public au préalable.\nMercredis et vendredis\, 10 h à 12 h\nDu 10 janvier au 21 juin
URL:https://archive.jdv.symbiodev.xyz/evenement/ecrivain-public-34/
LOCATION:Bibliothèque d’Ahuntsic
END:VEVENT
BEGIN:VEVENT
DTSTART;TZID=America/Toronto:20240503T193000
DTEND;TZID=America/Toronto:20240503T210000
DTSTAMP:20260419T110220
CREATED:20240112T155845Z
LAST-MODIFIED:20240112T155845Z
UID:118959-1714764600-1714770000@archive.jdv.symbiodev.xyz
SUMMARY:Les fantômes qui nous habitent
DESCRIPTION:Vendredi 3 mai 2024 de 19 h 30 à 21 h 00 \n \n\nUn concert présenté dans le cadre du Festival Accès Asie\, à ne pas manquer! \n\n\nDescription\n\nPrésenté dans le cadre du Festival Accès Asie\, Ghosts Within – Les fantômes qui nous habitent – entremêle la musique électronique de Firas Nassri\, puisant dans les traditions musicales syriennes\, et les projections visuelles de Jonathan Hardy. Les projections visuelles mélangent des éléments abstraits et des images d’archives de Syrie et d’Ukraine. La performance sera suivie d’une rencontre avec le public. \nBillets distribués au comptoir et en ligne dès le samedi 20 avril\, 12 h \n\n\n 
URL:https://archive.jdv.symbiodev.xyz/evenement/les-fantomes-qui-nous-habitent/
LOCATION:Maison de la culture Ahuntsic\, 10300\, rue Lajeunesse
END:VEVENT
BEGIN:VEVENT
DTSTART;TZID=America/Toronto:20240508T100000
DTEND;TZID=America/Toronto:20240508T120000
DTSTAMP:20260419T110220
CREATED:20231229T171829Z
LAST-MODIFIED:20231229T171829Z
UID:118710-1715162400-1715169600@archive.jdv.symbiodev.xyz
SUMMARY:Écrivain public
DESCRIPTION:Service d’aide à la rédaction de textes en français\, tant administratifs que personnels. Les rencontres ont lieu à la bibliothèque d’Ahuntsic. Un rendez-vous doit être fixé avec l’écrivain public au préalable.\nMercredis et vendredis\, 10 h à 12 h\nDu 10 janvier au 21 juin
URL:https://archive.jdv.symbiodev.xyz/evenement/ecrivain-public-35/
LOCATION:Bibliothèque d’Ahuntsic
END:VEVENT
BEGIN:VEVENT
DTSTART;TZID=America/Toronto:20240508T140000
DTEND;TZID=America/Toronto:20240508T153000
DTSTAMP:20260419T110220
CREATED:20240129T185325Z
LAST-MODIFIED:20240129T185325Z
UID:119489-1715176800-1715182200@archive.jdv.symbiodev.xyz
SUMMARY:S.O.S. informatique
DESCRIPTION:À compter du 14 février\, le service de dépannage informatique personnalisé reprendra à la bibliothèque d’Ahuntsic.\nUn mercredi sur deux\, du 14 février au 19 juin\, 14 h à 15 h 30.\nSans inscription.
URL:https://archive.jdv.symbiodev.xyz/evenement/s-o-s-informatique-11/
LOCATION:Bibliothèque d’Ahuntsic
END:VEVENT
BEGIN:VEVENT
DTSTART;TZID=America/Toronto:20240510T100000
DTEND;TZID=America/Toronto:20240510T120000
DTSTAMP:20260419T110220
CREATED:20231229T171927Z
LAST-MODIFIED:20231229T171927Z
UID:118712-1715335200-1715342400@archive.jdv.symbiodev.xyz
SUMMARY:Écrivain public
DESCRIPTION:Service d’aide à la rédaction de textes en français\, tant administratifs que personnels. Les rencontres ont lieu à la bibliothèque d’Ahuntsic. Un rendez-vous doit être fixé avec l’écrivain public au préalable.\nMercredis et vendredis\, 10 h à 12 h\nDu 10 janvier au 21 juin
URL:https://archive.jdv.symbiodev.xyz/evenement/ecrivain-public-36/
LOCATION:Bibliothèque d’Ahuntsic
END:VEVENT
BEGIN:VEVENT
DTSTART;TZID=America/Toronto:20240515T100000
DTEND;TZID=America/Toronto:20240515T120000
DTSTAMP:20260419T110220
CREATED:20231229T172019Z
LAST-MODIFIED:20231229T172019Z
UID:118714-1715767200-1715774400@archive.jdv.symbiodev.xyz
SUMMARY:Écrivain public
DESCRIPTION:Service d’aide à la rédaction de textes en français\, tant administratifs que personnels. Les rencontres ont lieu à la bibliothèque d’Ahuntsic. Un rendez-vous doit être fixé avec l’écrivain public au préalable.\nMercredis et vendredis\, 10 h à 12 h\nDu 10 janvier au 21 juin
URL:https://archive.jdv.symbiodev.xyz/evenement/ecrivain-public-37/
LOCATION:Bibliothèque d’Ahuntsic
END:VEVENT
BEGIN:VEVENT
DTSTART;TZID=America/Toronto:20240517T100000
DTEND;TZID=America/Toronto:20240517T120000
DTSTAMP:20260419T110220
CREATED:20231229T172115Z
LAST-MODIFIED:20231229T172115Z
UID:118716-1715940000-1715947200@archive.jdv.symbiodev.xyz
SUMMARY:Écrivain public
DESCRIPTION:Service d’aide à la rédaction de textes en français\, tant administratifs que personnels. Les rencontres ont lieu à la bibliothèque d’Ahuntsic. Un rendez-vous doit être fixé avec l’écrivain public au préalable.\nMercredis et vendredis\, 10 h à 12 h\nDu 10 janvier au 21 juin
URL:https://archive.jdv.symbiodev.xyz/evenement/ecrivain-public-38/
LOCATION:Bibliothèque d’Ahuntsic
END:VEVENT
BEGIN:VEVENT
DTSTART;TZID=America/Toronto:20240522T100000
DTEND;TZID=America/Toronto:20240522T120000
DTSTAMP:20260419T110220
CREATED:20231229T172223Z
LAST-MODIFIED:20231229T172223Z
UID:118718-1716372000-1716379200@archive.jdv.symbiodev.xyz
SUMMARY:Écrivain public
DESCRIPTION:Service d’aide à la rédaction de textes en français\, tant administratifs que personnels. Les rencontres ont lieu à la bibliothèque d’Ahuntsic. Un rendez-vous doit être fixé avec l’écrivain public au préalable.\nMercredis et vendredis\, 10 h à 12 h\nDu 10 janvier au 21 juin
URL:https://archive.jdv.symbiodev.xyz/evenement/ecrivain-public-39/
LOCATION:Bibliothèque d’Ahuntsic
END:VEVENT
BEGIN:VEVENT
DTSTART;TZID=America/Toronto:20240522T140000
DTEND;TZID=America/Toronto:20240522T153000
DTSTAMP:20260419T110220
CREATED:20240129T185431Z
LAST-MODIFIED:20240129T185431Z
UID:119491-1716386400-1716391800@archive.jdv.symbiodev.xyz
SUMMARY:S.O.S. informatique
DESCRIPTION:À compter du 14 février\, le service de dépannage informatique personnalisé reprendra à la bibliothèque d’Ahuntsic.\nUn mercredi sur deux\, du 14 février au 19 juin\, 14 h à 15 h 30.\nSans inscription.
URL:https://archive.jdv.symbiodev.xyz/evenement/s-o-s-informatique-12/
LOCATION:Bibliothèque d’Ahuntsic
END:VEVENT
BEGIN:VEVENT
DTSTART;TZID=America/Toronto:20240524T100000
DTEND;TZID=America/Toronto:20240524T120000
DTSTAMP:20260419T110220
CREATED:20231229T172341Z
LAST-MODIFIED:20231229T172341Z
UID:118720-1716544800-1716552000@archive.jdv.symbiodev.xyz
SUMMARY:Écrivain public
DESCRIPTION:Service d’aide à la rédaction de textes en français\, tant administratifs que personnels. Les rencontres ont lieu à la bibliothèque d’Ahuntsic. Un rendez-vous doit être fixé avec l’écrivain public au préalable.\nMercredis et vendredis\, 10 h à 12 h\nDu 10 janvier au 21 juin
URL:https://archive.jdv.symbiodev.xyz/evenement/ecrivain-public-40/
LOCATION:Bibliothèque d’Ahuntsic
END:VEVENT
BEGIN:VEVENT
DTSTART;TZID=America/Toronto:20240529T100000
DTEND;TZID=America/Toronto:20240529T120000
DTSTAMP:20260419T110220
CREATED:20231229T172444Z
LAST-MODIFIED:20231229T172444Z
UID:118722-1716976800-1716984000@archive.jdv.symbiodev.xyz
SUMMARY:Écrivain public
DESCRIPTION:Service d’aide à la rédaction de textes en français\, tant administratifs que personnels. Les rencontres ont lieu à la bibliothèque d’Ahuntsic. Un rendez-vous doit être fixé avec l’écrivain public au préalable.\nMercredis et vendredis\, 10 h à 12 h\nDu 10 janvier au 21 juin
URL:https://archive.jdv.symbiodev.xyz/evenement/ecrivain-public-41/
LOCATION:Bibliothèque d’Ahuntsic
END:VEVENT
BEGIN:VEVENT
DTSTART;TZID=America/Toronto:20240531T100000
DTEND;TZID=America/Toronto:20240531T120000
DTSTAMP:20260419T110220
CREATED:20231229T172747Z
LAST-MODIFIED:20231229T172747Z
UID:118724-1717149600-1717156800@archive.jdv.symbiodev.xyz
SUMMARY:Écrivain public
DESCRIPTION:Service d’aide à la rédaction de textes en français\, tant administratifs que personnels. Les rencontres ont lieu à la bibliothèque d’Ahuntsic. Un rendez-vous doit être fixé avec l’écrivain public au préalable.\nMercredis et vendredis\, 10 h à 12 h\nDu 10 janvier au 21 juin
URL:https://archive.jdv.symbiodev.xyz/evenement/ecrivain-public-42/
LOCATION:Bibliothèque d’Ahuntsic
END:VEVENT
END:VCALENDAR