BEGIN:VCALENDAR
VERSION:2.0
PRODID:-//Journaldesvoisins.com - ECPv6.15.18//NONSGML v1.0//EN
CALSCALE:GREGORIAN
METHOD:PUBLISH
X-ORIGINAL-URL:https://archive.jdv.symbiodev.xyz
X-WR-CALDESC:Événements pour Journaldesvoisins.com
REFRESH-INTERVAL;VALUE=DURATION:PT1H
X-Robots-Tag:noindex
X-PUBLISHED-TTL:PT1H
BEGIN:VTIMEZONE
TZID:America/Toronto
BEGIN:DAYLIGHT
TZOFFSETFROM:-0500
TZOFFSETTO:-0400
TZNAME:EDT
DTSTART:20200308T070000
END:DAYLIGHT
BEGIN:STANDARD
TZOFFSETFROM:-0400
TZOFFSETTO:-0500
TZNAME:EST
DTSTART:20201101T060000
END:STANDARD
BEGIN:DAYLIGHT
TZOFFSETFROM:-0500
TZOFFSETTO:-0400
TZNAME:EDT
DTSTART:20210314T070000
END:DAYLIGHT
BEGIN:STANDARD
TZOFFSETFROM:-0400
TZOFFSETTO:-0500
TZNAME:EST
DTSTART:20211107T060000
END:STANDARD
BEGIN:DAYLIGHT
TZOFFSETFROM:-0500
TZOFFSETTO:-0400
TZNAME:EDT
DTSTART:20220313T070000
END:DAYLIGHT
BEGIN:STANDARD
TZOFFSETFROM:-0400
TZOFFSETTO:-0500
TZNAME:EST
DTSTART:20221106T060000
END:STANDARD
BEGIN:DAYLIGHT
TZOFFSETFROM:-0500
TZOFFSETTO:-0400
TZNAME:EDT
DTSTART:20230312T070000
END:DAYLIGHT
BEGIN:STANDARD
TZOFFSETFROM:-0400
TZOFFSETTO:-0500
TZNAME:EST
DTSTART:20231105T060000
END:STANDARD
BEGIN:DAYLIGHT
TZOFFSETFROM:-0500
TZOFFSETTO:-0400
TZNAME:EDT
DTSTART:20240310T070000
END:DAYLIGHT
BEGIN:STANDARD
TZOFFSETFROM:-0400
TZOFFSETTO:-0500
TZNAME:EST
DTSTART:20241103T060000
END:STANDARD
BEGIN:DAYLIGHT
TZOFFSETFROM:-0500
TZOFFSETTO:-0400
TZNAME:EDT
DTSTART:20250309T070000
END:DAYLIGHT
BEGIN:STANDARD
TZOFFSETFROM:-0400
TZOFFSETTO:-0500
TZNAME:EST
DTSTART:20251102T060000
END:STANDARD
BEGIN:DAYLIGHT
TZOFFSETFROM:-0500
TZOFFSETTO:-0400
TZNAME:EDT
DTSTART:20260308T070000
END:DAYLIGHT
BEGIN:STANDARD
TZOFFSETFROM:-0400
TZOFFSETTO:-0500
TZNAME:EST
DTSTART:20261101T060000
END:STANDARD
END:VTIMEZONE
BEGIN:VEVENT
DTSTART;TZID=America/Toronto:20210721T163000
DTEND;TZID=America/Toronto:20251231T235900
DTSTAMP:20260419T094037
CREATED:20230802T185612Z
LAST-MODIFIED:20231009T221636Z
UID:113340-1626885000-1767225540@archive.jdv.symbiodev.xyz
SUMMARY:Découvrez le parcours auditif permanent Cuisine ton quartier\, situé au parc Marcelin-Wilson
DESCRIPTION:Partez à la découverte des parcours et des enjeux que vivent les personnes réfugiées et immigrantes qui composent le tissu social de votre quartier. \n\n\nDescription\n\nVivez l’expérience depuis chez vous\, ou en vous rendant sur place au parc Marcelin-Wilson\, pour une visite guidée auditive à votre rythme : Parcours-balado – Cuisine ton quartier. \nVous pourrez écouter de 12 à 16 épisodes pour une durée qui varie entre 6 à 35 minutes chacun. Des messages de paix\, de joie\, de sensibilisation vous sont livrés ; des histoires de vie\, des parcours plus ou moins difficiles\, des vécus confiés criant d’authenticité qui nous font grandir de courage et d’intelligence humaine. \nOutre le parc Marcelin-Wilson\, vous pouvez vous rendre sur les lieux mêmes où ont été enregistrées les entrevues\, soit dans six autres parcs montréalais : \n\nHenri-Bourassa\, de Montréal-Nord;\nPirandello\, de Saint-Léonard;\nJarry\, de Villeray–Saint-Michel–Parc-Extension;\nGeorge Springate\, de Pierrefonds–Roxboro;\nMartin Luther King\, de Côte-des-Neiges–Notre-Dame-de-Grâce;\nPainter\, de Saint-Laurent.\n\nEn tout ce sont 82 témoignages en ligne et en parcours sonores installés de manière permanente dans ces 7 parcs montréalais. \nPour les écouter\, il suffit de prendre en photo le code QR affiché sur la station. Six stations sont situées au parc Marcelin-Wilson. \nUne réalisation de ATSA\, Quand l’Art passe à l’Action\, rendue possible grâce à l’appui de la Ville de Montréal (Bureau d’intégration des nouveaux arrivants à Montréal)\, du ministère de l’Immigration\, de la Francisation et de l’Intégration (MIFI) et du Conseil des Arts de Montréal.
URL:https://archive.jdv.symbiodev.xyz/evenement/decouvrez-le-parcours-auditif-permanent-cuisine-ton-quartier-situe-au-parc-marcelin-wilson/
LOCATION:Parc Marcelin-Wilson\, 11301 Bd de l'Acadie\, Montréal\, Quebec\, H3M 2T1\, Canada
ORGANIZER;CN="ATSA":MAILTO:info@atsa.qc.ca
END:VEVENT
BEGIN:VEVENT
DTSTART;VALUE=DATE:20240319
DTEND;VALUE=DATE:20240429
DTSTAMP:20260419T094037
CREATED:20240126T160958Z
LAST-MODIFIED:20240126T160958Z
UID:119358-1710806400-1714348799@archive.jdv.symbiodev.xyz
SUMMARY:L’espoir des colibris
DESCRIPTION:
URL:https://archive.jdv.symbiodev.xyz/evenement/lespoir-des-colibris-2/
LOCATION:Café de Da\, 545 Rue Fleury E
END:VEVENT
BEGIN:VEVENT
DTSTART;TZID=America/Toronto:20240419T100000
DTEND;TZID=America/Toronto:20240419T120000
DTSTAMP:20260419T094037
CREATED:20231229T171348Z
LAST-MODIFIED:20231229T171348Z
UID:118699-1713520800-1713528000@archive.jdv.symbiodev.xyz
SUMMARY:Écrivain public
DESCRIPTION:Service d’aide à la rédaction de textes en français\, tant administratifs que personnels. Les rencontres ont lieu à la bibliothèque d’Ahuntsic. Un rendez-vous doit être fixé avec l’écrivain public au préalable.\nMercredis et vendredis\, 10 h à 12 h\nDu 10 janvier au 21 juin
URL:https://archive.jdv.symbiodev.xyz/evenement/ecrivain-public-30/
LOCATION:Bibliothèque d’Ahuntsic
END:VEVENT
BEGIN:VEVENT
DTSTART;TZID=America/Toronto:20240419T200000
DTEND;TZID=America/Toronto:20240419T213000
DTSTAMP:20260419T094037
CREATED:20240112T155256Z
LAST-MODIFIED:20240112T155256Z
UID:118951-1713556800-1713562200@archive.jdv.symbiodev.xyz
SUMMARY:Méduse
DESCRIPTION:Vendredi 19 avril 2024 de 20 h 00 à 21 h 30 \n \n\nVenez bouger sur de la musique déjantée avec Méduse\, au Cabaret Juste-Là. \n\n\nDescription\n\nAvec un assemblage éclectique d’instrumentistes aux influences multiples et aux rythmes enlevants\, Méduse se démarque par ses innombrables surprises. Provenant chacun.e.s de différents univers musicaux\, ces musicien.nes nous transporte dans un monde parfois latin \, balkanique\, opératique\, chansonnier\, tropical\, voire même métal Aux échos des mélodies percussives du banjo et du marimba\, les thèmes fantomatiques du violon et de la voix lyrique ainsi que les grooves orageux du tuba et du darbuka\, Méduse vous emporte dans une expérience musicale qui s’installera  dans votre esprit et vos oreilles bien longtemps. \nPrésenté au Cabaret Juste-là. \nBillets distribués au comptoir et en ligne dès le samedi 6 avril\, 12 h. \n\n\n 
URL:https://archive.jdv.symbiodev.xyz/evenement/meduse/
LOCATION:Maison de la culture Ahuntsic\, 10300\, rue Lajeunesse
END:VEVENT
BEGIN:VEVENT
DTSTART;TZID=America/Toronto:20240421T150000
DTEND;TZID=America/Toronto:20240421T161500
DTSTAMP:20260419T094037
CREATED:20240112T155448Z
LAST-MODIFIED:20240112T155448Z
UID:118953-1713711600-1713716100@archive.jdv.symbiodev.xyz
SUMMARY:Dolin-Kayaleh
DESCRIPTION:Dimanche 21 avril 2024 de 15 h 00 à 16 h 15 \n \n\nNe manquez pas un duo exceptionnel de violon et violoncelle à l’Église de la Visitation. \n\n\nDescription\n\nUn programme entièrement consacré au duo violon/violoncelle avec de grandes interprètes:  la violoncelliste  Elizabeth Dolin qui a fondé plusieurs ensembles renommés  et la concertiste internationale  Laurence Kayaleh au violon. Le programme comprend des œuvres de Bohuslav Martinů\, Zoltán Kodály et Jean-Sébastien Bach. \nBillets distribués au comptoir et en ligne dès le samedi 6 avril\, 12 h \n\n\n 
URL:https://archive.jdv.symbiodev.xyz/evenement/dolin-kayaleh/
LOCATION:Église de La Visitation\, 1847 Boul. Gouin Est\, Montréa\, Québec\, l\, QC H2C 1C8\, Canada
END:VEVENT
BEGIN:VEVENT
DTSTART;TZID=America/Toronto:20240424T100000
DTEND;TZID=America/Toronto:20240424T120000
DTSTAMP:20260419T094037
CREATED:20231229T171440Z
LAST-MODIFIED:20231229T171440Z
UID:118702-1713952800-1713960000@archive.jdv.symbiodev.xyz
SUMMARY:Écrivain public
DESCRIPTION:Service d’aide à la rédaction de textes en français\, tant administratifs que personnels. Les rencontres ont lieu à la bibliothèque d’Ahuntsic. Un rendez-vous doit être fixé avec l’écrivain public au préalable.\nMercredis et vendredis\, 10 h à 12 h\nDu 10 janvier au 21 juin
URL:https://archive.jdv.symbiodev.xyz/evenement/ecrivain-public-31/
LOCATION:Bibliothèque d’Ahuntsic
END:VEVENT
BEGIN:VEVENT
DTSTART;TZID=America/Toronto:20240424T140000
DTEND;TZID=America/Toronto:20240424T153000
DTSTAMP:20260419T094037
CREATED:20240129T185220Z
LAST-MODIFIED:20240129T185220Z
UID:119487-1713967200-1713972600@archive.jdv.symbiodev.xyz
SUMMARY:S.O.S. informatique
DESCRIPTION:À compter du 14 février\, le service de dépannage informatique personnalisé reprendra à la bibliothèque d’Ahuntsic.\nUn mercredi sur deux\, du 14 février au 19 juin\, 14 h à 15 h 30.\nSans inscription.
URL:https://archive.jdv.symbiodev.xyz/evenement/s-o-s-informatique-10/
LOCATION:Bibliothèque d’Ahuntsic
END:VEVENT
BEGIN:VEVENT
DTSTART;TZID=America/Toronto:20240425T193000
DTEND;TZID=America/Toronto:20240425T210000
DTSTAMP:20260419T094037
CREATED:20240112T155605Z
LAST-MODIFIED:20240112T155605Z
UID:118955-1714073400-1714078800@archive.jdv.symbiodev.xyz
SUMMARY:Dérives
DESCRIPTION:Jeudi 25 avril 2024 de 19 h 30 à 21 h 00 \n \n\nChorégraphie et interprétation par Lucie Grégoire \n\n\nDescription\n\nDérives d’un monde en péril\, dérives intérieures… Seule en scène\, Lucie Grégoire incarne une femme qui habite l’espace\, en intime résonance avec la musique vibrante de la violoncelliste islandaise Hildur Guðnadóttir. Comme deux courants provenant d’une même source\, la danse et la musique se scindent et confluent. Dévoilant sa part d’ombre et de lumière\, la chorégraphe nous renvoie l’écho d’une humanité en déroute. Lucie Grégoire incarne avec maestria cette femme multiple qui navigue à vue entre les écueils d’un présent troublé. \n  \nBillets distribués au comptoir et en ligne dès le mardi 9 avril\, 18 h \n\n\n 
URL:https://archive.jdv.symbiodev.xyz/evenement/derives/
LOCATION:Maison de la culture Ahuntsic\, 10300\, rue Lajeunesse
END:VEVENT
BEGIN:VEVENT
DTSTART;TZID=America/Toronto:20240426T100000
DTEND;TZID=America/Toronto:20240426T120000
DTSTAMP:20260419T094037
CREATED:20231229T171530Z
LAST-MODIFIED:20231229T171530Z
UID:118704-1714125600-1714132800@archive.jdv.symbiodev.xyz
SUMMARY:Écrivain public
DESCRIPTION:Service d’aide à la rédaction de textes en français\, tant administratifs que personnels. Les rencontres ont lieu à la bibliothèque d’Ahuntsic. Un rendez-vous doit être fixé avec l’écrivain public au préalable.\nMercredis et vendredis\, 10 h à 12 h\nDu 10 janvier au 21 juin
URL:https://archive.jdv.symbiodev.xyz/evenement/ecrivain-public-32/
LOCATION:Bibliothèque d’Ahuntsic
END:VEVENT
BEGIN:VEVENT
DTSTART;TZID=America/Toronto:20240426T203000
DTEND;TZID=America/Toronto:20240426T220000
DTSTAMP:20260419T094037
CREATED:20240112T155726Z
LAST-MODIFIED:20240112T155726Z
UID:118957-1714163400-1714168800@archive.jdv.symbiodev.xyz
SUMMARY:Rosalie Ayotte en trio
DESCRIPTION:Vendredi 26 avril 2024 de 20 h 30 à 22 h 00 \n\nVenez découvrir Rosalie Ayotte en trio à la maison de la culture Ahuntsic dans le Cabaret Juste-là. \n\n\nDescription\n\nOriginaire de Saint-Tite\, en Mauricie\, Rosalie Ayotte Rosalie Ayotte se fait remarquer grâce à sa voix unique et singulière lors de son passage à la populaire émission Star Académie\, une expérience qu’elle juge enrichissante à tous les points de vue. L’artiste s’initie tôt à la guitare et au chant. Ses chansons enveloppantes font souvent réfléchir et se plonger en nous-mêmes. La chanteuse a la capacité de mettre en chanson les petits et les grands moments de la vie qui font que chacun peut se reconnaître dans ses textes. \nPrésenté au Cabaret Juste-là. \nBillets distribués au comptoir et en ligne dès le samedi 13 avril\, 12 h.
URL:https://archive.jdv.symbiodev.xyz/evenement/rosalie-ayotte-en-trio/
LOCATION:Maison de la culture Ahuntsic\, 10300\, rue Lajeunesse
END:VEVENT
BEGIN:VEVENT
DTSTART;VALUE=DATE:20240429
DTEND;VALUE=DATE:20240531
DTSTAMP:20260419T094037
CREATED:20240112T152900Z
LAST-MODIFIED:20240112T152900Z
UID:118929-1714348800-1717113599@archive.jdv.symbiodev.xyz
SUMMARY:[RE]CAPTURE ALICE JARRY - 29 avril → 30 mai 2024
DESCRIPTION:S’appuyant sur le concept de filtration\, [re]capture est une installation qui explore la matérialisation des flux de pollution atmosphérique à Montréal. Des objets nomades disposés dans l’espace urbain captent les niveaux de particules fines\, de dioxyde de carbone et de composés volatiles organiques ainsi que des images de leur environnement immédiat. Ces informations sont organisées dans une base de données et retransmises dans l’espace d’exposition pour informer les comportements de flux de vent et de lumière qui circulent dans un système de filtration constitué de biomatériaux et de plantes reconnus pour leur propriété filtrantes. \nConsultez le site Web pour les détails et tarifs : https://www.eisode.art/recapture
URL:https://archive.jdv.symbiodev.xyz/evenement/recapture-alice-jarry-29-avril-%e2%86%92-30-mai-2024/
END:VEVENT
BEGIN:VEVENT
DTSTART;VALUE=DATE:20240430
DTEND;VALUE=DATE:20240629
DTSTAMP:20260419T094037
CREATED:20240126T161054Z
LAST-MODIFIED:20240126T161054Z
UID:119360-1714435200-1719619199@archive.jdv.symbiodev.xyz
SUMMARY:Retour imaginé\, une inspiration d’œuvres de Riopelle
DESCRIPTION:
URL:https://archive.jdv.symbiodev.xyz/evenement/retour-imagine-une-inspiration-doeuvres-de-riopelle/
LOCATION:Café de Da\, 545 Rue Fleury E
END:VEVENT
END:VCALENDAR